BEGIN:VCALENDAR
X-WR-TIMEZONE:Europe/Berlin
X-WR-CALNAME:rbb-Kalender
VERSION:2.0
METHOD:PUBLISH
CALSCALE:GREGORIAN
PRODID:rbb-CMS DAY
BEGIN:VEVENT
CLASS:PUBLIC
URL:http://www.rbb-online.de/content/rbb/rbb/doku/die_rbb_reporter/beitraege/mit-dem-lastkahn-durch.html
DTEND:20130803T183200
DTSTART:20130803T183200
UID:/content/rbb/rbb/doku/die_rbb_reporter/beitraege/mit-dem-lastkahn-durch
DTSTAMP:20140405T043815
DESCRIPTION:"Ich duze jedes Karnickel an der Strecke," sagt Binnenschiffer Ralf Gebhardt. Kein Wunder, schließlich ist er schon seit einem halben Jahrhundert auf den Berliner Gewässern zu Hause.\n
SUMMARY:Mit dem Lastkahn durch Berlin
END:VEVENT
END:VCALENDAR
