BEGIN:VCALENDAR
X-WR-TIMEZONE:Europe/Berlin
X-WR-CALNAME:rbb-Kalender
VERSION:2.0
METHOD:PUBLISH
CALSCALE:GREGORIAN
PRODID:rbb-CMS DAY
BEGIN:VEVENT
CLASS:PUBLIC
URL:http://www.rbb-online.de/content/rbb/rbb/doku/die_rbb_reporter/beitraege/mit-dem-rbb-von-berlin-nach-tokio.html
DTEND:20140405T183200
DTSTART:20140405T183200
UID:/content/rbb/rbb/doku/die_rbb_reporter/beitraege/mit-dem-rbb-von-berlin-nach-tokio
DTSTAMP:20140404T141308
DESCRIPTION:Es ist eine Fahrt der Superlative. Auf einer einzigen Reise werden die Hochebenen Irans, die Regenwälder Myanmars, die Wüsten Chinas und die Millionenmetropolen Japans durchquert.\n
SUMMARY:Mit dem rbb von Berlin nach Tokio
END:VEVENT
END:VCALENDAR
