BEGIN:VCALENDAR
X-WR-TIMEZONE:Europe/Berlin
X-WR-CALNAME:rbb-Kalender
VERSION:2.0
METHOD:PUBLISH
CALSCALE:GREGORIAN
PRODID:rbb-CMS DAY
BEGIN:VEVENT
CLASS:PUBLIC
URL:http://www.rbb-online.de/content/rbb/rbb/doku/die_rbb_reporter/beitraege/radwaerts_ins_berliner.html
DTEND:20130608T153500
DTSTART:20130608T153500
UID:/content/rbb/rbb/doku/die_rbb_reporter/beitraege/radwaerts_ins_berliner
DTSTAMP:20140405T044009
DESCRIPTION:Die flache Hauptstadtregion rund um Berlin eignet sich hervorragend für Radtouren. Die rbb Reporter stellen Etappen vor, die mit durchschnittlicher Kondition an einem ganzen oder halben Tag und auch von Kindern zu bewältigen sind.\n
SUMMARY:Radwärts ins Berliner Umland
END:VEVENT
END:VCALENDAR
