BEGIN:VCALENDAR
X-WR-TIMEZONE:Europe/Berlin
X-WR-CALNAME:rbb-Kalender
VERSION:2.0
METHOD:PUBLISH
CALSCALE:GREGORIAN
PRODID:rbb-CMS DAY
BEGIN:VEVENT
CLASS:PUBLIC
URL:http://www.rbb-online.de/content/rbb/rbb/doku/die_rbb_reporter/beitraege/rbbreporter-berliner-ufer1.html
DTEND:20130713T183200
DTSTART:20130713T183200
UID:/content/rbb/rbb/doku/die_rbb_reporter/beitraege/rbbreporter-berliner-ufer1
DTSTAMP:20140405T043505
DESCRIPTION:Ein kleines Boot auf Havel und Spree. Mit an Bord ein Kamerateam. Links und rechts am Ufer begegnen dem Team Menschen, die an, auf oder von den Wasserstraßen der Hauptstadt leben. \n
SUMMARY:An Berliner Ufern (1/2)
END:VEVENT
END:VCALENDAR
