BEGIN:VCALENDAR
X-WR-TIMEZONE:Europe/Berlin
X-WR-CALNAME:rbb-Kalender
VERSION:2.0
METHOD:PUBLISH
CALSCALE:GREGORIAN
PRODID:rbb-CMS DAY
BEGIN:VEVENT
CLASS:PUBLIC
URL:http://www.rbb-online.de/content/rbb/rbb/doku/die_rbb_reporter/beitraege/reparieren-statt-wegwerfen.html
DTEND:20140125T144500
DTSTART:20140125T144500
UID:/content/rbb/rbb/doku/die_rbb_reporter/beitraege/reparieren-statt-wegwerfen
DTSTAMP:20140405T043825
DESCRIPTION:Der 25. Januar steht beim rbb Fernsehen und bei radioBerlin 88,8 ganz im Zeichen des Themas "Reparieren statt wegwerfen". Das rbb Fernsehen sendet Informationen, Reportagen und Interviews rund um das Thema nachhaltige Lebensführung.\n\n\n
SUMMARY:Reparieren statt wegwerfen
END:VEVENT
END:VCALENDAR
