BEGIN:VCALENDAR
X-WR-TIMEZONE:Europe/Berlin
X-WR-CALNAME:rbb-Kalender
VERSION:2.0
METHOD:PUBLISH
CALSCALE:GREGORIAN
PRODID:rbb-CMS DAY
BEGIN:VEVENT
CLASS:PUBLIC
URL:http://www.rbb-online.de/content/rbb/rbb/doku/die_rbb_reporter/beitraege/reporter-jagd-auf-plaste.html
DTEND:20130928T120000
DTSTART:20130928T120000
UID:/content/rbb/rbb/doku/die_rbb_reporter/beitraege/reporter-jagd-auf-plaste
DTSTAMP:20140405T044416
DESCRIPTION:Die rbb-Reporter sind mit Trödelhändlern und Ostalgie-Fans auf Jagd nach "DDR-Schätzen" - quer durch Berlin und Brandenburg.\n
SUMMARY:Jagd auf Plaste und Elaste
END:VEVENT
END:VCALENDAR
