BEGIN:VCALENDAR
X-WR-TIMEZONE:Europe/Berlin
X-WR-CALNAME:rbb-Kalender
VERSION:2.0
METHOD:PUBLISH
CALSCALE:GREGORIAN
PRODID:rbb-CMS DAY
BEGIN:VEVENT
CLASS:PUBLIC
URL:http://www.rbb-online.de/content/rbb/rbb/doku/die_rbb_reporter/beitraege/wir-essen-nur-pflanzen.html
DTEND:20130511T183000
DTSTART:20130511T183000
UID:/content/rbb/rbb/doku/die_rbb_reporter/beitraege/wir-essen-nur-pflanzen
DTSTAMP:20140405T043356
DESCRIPTION:Berlin ist die Hauptstadt der veganen Szene in Deutschland. Vor allem junge Menschen entscheiden sich für eine tierleidfreie Lebensweise und lehnen deshalb sämtliche Produkte mit tierischen Inhalten ab.\n
SUMMARY:Wir essen nur Pflanzen
END:VEVENT
END:VCALENDAR
