BEGIN:VCALENDAR
X-WR-TIMEZONE:Europe/Berlin
X-WR-CALNAME:rbb-Kalender
VERSION:2.0
METHOD:PUBLISH
CALSCALE:GREGORIAN
PRODID:rbb-CMS DAY
BEGIN:VEVENT
CLASS:PUBLIC
URL:http://www.rbb-online.de/content/rbb/rbb/doku/e/echt_ost/zirkus-in-der-ddr.html
DTEND:20140304T201500
DTSTART:20140304T201500
UID:/content/rbb/rbb/doku/e/echt_ost/zirkus-in-der-ddr
DTSTAMP:20140406T180054
DESCRIPTION:Vorhang auf! Manege frei! Das große Zirkuszelt ist wie immer bis auf den letzten Platz belegt. In der Manege sitzen sieben ausgewachsene Eisbären auf ihren bunt glitzernden Podesten.\n
SUMMARY:Zirkus in der DDR
END:VEVENT
END:VCALENDAR
