BEGIN:VCALENDAR
X-WR-TIMEZONE:Europe/Berlin
X-WR-CALNAME:rbb-Kalender
VERSION:2.0
METHOD:PUBLISH
CALSCALE:GREGORIAN
PRODID:rbb-CMS DAY
BEGIN:VEVENT
CLASS:PUBLIC
URL:http://www.rbb-online.de/content/rbb/rbb/doku/f-g/die_geheimnisse_des.html
DTEND:20140505T221500
DTSTART:20140505T221500
UID:/content/rbb/rbb/doku/f-g/die_geheimnisse_des
DTSTAMP:20140404T221155
DESCRIPTION:Der Werbellinsee ist einer der größten und schönsten Gewässer der Schorfheide, ein Rinnensee der letzten Eiszeit.\n
SUMMARY:Geheimnisse des Werbellinsees
END:VEVENT
END:VCALENDAR
