BEGIN:VCALENDAR
X-WR-TIMEZONE:Europe/Berlin
X-WR-CALNAME:rbb-Kalender
VERSION:2.0
METHOD:PUBLISH
CALSCALE:GREGORIAN
PRODID:rbb-CMS DAY
BEGIN:VEVENT
CLASS:PUBLIC
URL:http://www.rbb-online.de/content/rbb/rbb/doku/f-g/frau_walter_jens.html
DTEND:20130611T003000
DTSTART:20130611T003000
UID:/content/rbb/rbb/doku/f-g/frau_walter_jens
DTSTAMP:20140407T130428
DESCRIPTION:Die filmische Hommage an Inge und Walter Jens gibt Einblick in die Schreibwerkstatt, in der das viel gelobte Alterswerk der beiden, "Frau Thomas Mann", entstand.
SUMMARY:Frau Walter Jens
END:VEVENT
END:VCALENDAR
