BEGIN:VCALENDAR
X-WR-TIMEZONE:Europe/Berlin
X-WR-CALNAME:rbb-Kalender
VERSION:2.0
METHOD:PUBLISH
CALSCALE:GREGORIAN
PRODID:rbb-CMS DAY
BEGIN:VEVENT
CLASS:PUBLIC
URL:http://www.rbb-online.de/content/rbb/rbb/doku/f-g/gesund_aus_eigener.html
DTEND:20140317T224500
DTSTART:20140317T221500
UID:/content/rbb/rbb/doku/f-g/gesund_aus_eigener
DTSTAMP:20140404T222039
DESCRIPTION:Die Erfolge der modernen Medizin sind beeindruckend. Für die Behandlung der meisten Krankheiten stehen hochwirksame Medikamente zur Verfügung. Eine ausgeklügelte Technik erlaubt selbst komplizierte Operationen.\n
SUMMARY:Gesund aus eigener Kraft - Die Wiederentdeckung der Selbstheilung
END:VEVENT
END:VCALENDAR
