BEGIN:VCALENDAR
X-WR-TIMEZONE:Europe/Berlin
X-WR-CALNAME:rbb-Kalender
VERSION:2.0
METHOD:PUBLISH
CALSCALE:GREGORIAN
PRODID:rbb-CMS DAY
BEGIN:VEVENT
CLASS:PUBLIC
URL:http://www.rbb-online.de/content/rbb/rbb/doku/h-j/harlan-im-schatten.html
DTEND:20131029T233000
DTSTART:20131029T233000
UID:/content/rbb/rbb/doku/h-j/harlan-im-schatten
DTSTAMP:20140408T063702
DESCRIPTION:Veit Harlan gehört zu den schillerndsten Figuren der NS-Zeit. Die Dokumentation erzählt, wie sich seine Kinder und Enkel mit den Filmen Harlans auseinandersetzen.\n
SUMMARY:Harlan - Im Schatten von Jud Süß
END:VEVENT
END:VCALENDAR
