BEGIN:VCALENDAR
X-WR-TIMEZONE:Europe/Berlin
X-WR-CALNAME:rbb-Kalender
VERSION:2.0
METHOD:PUBLISH
CALSCALE:GREGORIAN
PRODID:rbb-CMS DAY
BEGIN:VEVENT
CLASS:PUBLIC
URL:http://www.rbb-online.de/content/rbb/rbb/doku/h-j/im-himmel-unter-der-Erde.html
DTEND:20131112T224500
DTSTART:20131112T224500
UID:/content/rbb/rbb/doku/h-j/im-himmel-unter-der-Erde
DTSTAMP:20140408T004916
DESCRIPTION:Der Jüdische Friedhof Weißensee wirkt wie ein Märchenwald inmitten der deutschen Hauptstadt und ist dennoch ein höchst lebendiger Ort.\n
SUMMARY:Im Himmel, unter der Erde
END:VEVENT
END:VCALENDAR
