BEGIN:VCALENDAR
X-WR-TIMEZONE:Europe/Berlin
X-WR-CALNAME:rbb-Kalender
VERSION:2.0
METHOD:PUBLISH
CALSCALE:GREGORIAN
PRODID:rbb-CMS DAY
BEGIN:VEVENT
CLASS:PUBLIC
URL:http://www.rbb-online.de/content/rbb/rbb/doku/h-j/jan-josef-liefers.html
DTEND:20140109T000500
DTSTART:20140109T000500
UID:/content/rbb/rbb/doku/h-j/jan-josef-liefers
DTSTAMP:20140407T131108
DESCRIPTION:Die Dokumentation zeigt Jan Josef Liefers in seinen spannendsten Filmen wie "Knockin' on Heavens Door", "Das Wunder von Lengede" oder "Die Nachrichten". Und in ganz unterschiedlichen Facetten: als Schauspieler, Musiker, Geliebter, Sohn und Freund.\n
SUMMARY:Jan Josef Liefers
END:VEVENT
END:VCALENDAR
