BEGIN:VCALENDAR
X-WR-TIMEZONE:Europe/Berlin
X-WR-CALNAME:rbb-Kalender
VERSION:2.0
METHOD:PUBLISH
CALSCALE:GREGORIAN
PRODID:rbb-CMS DAY
BEGIN:VEVENT
CLASS:PUBLIC
URL:http://www.rbb-online.de/content/rbb/rbb/doku/k-l/loriot.html
DTEND:20131113T224500
DTSTART:20131113T224500
UID:/content/rbb/rbb/doku/k-l/loriot
DTSTAMP:20140408T004814
DESCRIPTION:Er gilt als Feingeist unter den deutschen Humoristen. Als Autor, Regisseur, Schauspieler und Karikaturist war Loriot, der in diesem Jahr 90 Jahre alt geworden wäre, einer der populärsten deutschen Künstlerpersönlichkeiten.\n\n\n
SUMMARY:Loriot
END:VEVENT
END:VCALENDAR
