BEGIN:VCALENDAR
X-WR-TIMEZONE:Europe/Berlin
X-WR-CALNAME:rbb-Kalender
VERSION:2.0
METHOD:PUBLISH
CALSCALE:GREGORIAN
PRODID:rbb-CMS DAY
BEGIN:VEVENT
CLASS:PUBLIC
URL:http://www.rbb-online.de/content/rbb/rbb/doku/k-l/luise___koenigin_der.html
DTEND:20140311T230000
DTSTART:20140311T230000
UID:/content/rbb/rbb/doku/k-l/luise___koenigin_der
DTSTAMP:20140404T221553
DESCRIPTION:Die Dokumentation entwirft ein sinnliches und emotionales Bild dieser Frau, die schon zu Lebzeiten "Königin der Herzen" genannt wurde.\n
SUMMARY:Luise - Königin der Herzen
END:VEVENT
END:VCALENDAR
