BEGIN:VCALENDAR
X-WR-TIMEZONE:Europe/Berlin
X-WR-CALNAME:rbb-Kalender
VERSION:2.0
METHOD:PUBLISH
CALSCALE:GREGORIAN
PRODID:rbb-CMS DAY
BEGIN:VEVENT
CLASS:PUBLIC
URL:http://www.rbb-online.de/content/rbb/rbb/doku/m-n/maskenball-in-der-niederlausitz.html
DTEND:20140302T170000
DTSTART:20140302T163000
UID:/content/rbb/rbb/doku/m-n/maskenball-in-der-niederlausitz
DTSTAMP:20140406T180111
DESCRIPTION:Eine alte Niederlausitzer Tradition wird auf den Dörfern rund um Spremberg und Cottbus wiederentdeckt: der Maskenball. Ein bisschen Fasching, ein bisschen Karneval, ein bisschen Fastnacht - und doch etwas ganz anderes.\n\n\n
SUMMARY:Maskenball in der Niederlausitz
END:VEVENT
END:VCALENDAR
