BEGIN:VCALENDAR
X-WR-TIMEZONE:Europe/Berlin
X-WR-CALNAME:rbb-Kalender
VERSION:2.0
METHOD:PUBLISH
CALSCALE:GREGORIAN
PRODID:rbb-CMS DAY
BEGIN:VEVENT
LOCATION: 
CLASS:PUBLIC
URL:http://www.rbb-online.de/content/rbb/rbb/doku/m-n/matthias-platzeck-portrait.html
DTEND:20130827T210000
DTSTART:20130827T201500
UID:/content/rbb/rbb/doku/m-n/matthias-platzeck-portrait
DTSTAMP:20140408T063237
DESCRIPTION:Beate Tyron und Thomas Bittner haben Brandenburgs bekanntesten Politiker in den Wochen vor seinem Abschied quer durchs Land begleitet.\n
SUMMARY:Matthias Platzeck - Ein Porträt
END:VEVENT
END:VCALENDAR
