BEGIN:VCALENDAR
X-WR-TIMEZONE:Europe/Berlin
X-WR-CALNAME:rbb-Kalender
VERSION:2.0
METHOD:PUBLISH
CALSCALE:GREGORIAN
PRODID:rbb-CMS DAY
BEGIN:VEVENT
CLASS:PUBLIC
URL:http://www.rbb-online.de/content/rbb/rbb/doku/m-n/mein-sommer88.html
DTEND:20131001T201500
DTSTART:20131001T201500
UID:/content/rbb/rbb/doku/m-n/mein-sommer88
DTSTAMP:20140408T063502
DESCRIPTION:In einem Mix aus Dokumentation und Fiktion beschreibt die Koproduktion von MDR und rbb collagenartig, emotional und informativ einen Musiksommer der Superlative im Osten. Teilweise unveröffentlichte Konzertmitschnitte und neu gedrehtes Filmmaterial zeigen die riesige Euphorie der Fans. Konzerte von westlichen Rock- und Popgrößen in der DDR waren bis Ende der 80er-Jahre ein kaum denkbares Szenario.\n\n
SUMMARY:Mein Sommer '88
END:VEVENT
END:VCALENDAR
