BEGIN:VCALENDAR
X-WR-TIMEZONE:Europe/Berlin
X-WR-CALNAME:rbb-Kalender
VERSION:2.0
METHOD:PUBLISH
CALSCALE:GREGORIAN
PRODID:rbb-CMS DAY
BEGIN:VEVENT
CLASS:PUBLIC
URL:http://www.rbb-online.de/content/rbb/rbb/doku/o-r/Pinselstrich.html
DTEND:20130831T110000
DTSTART:20130831T110000
UID:/content/rbb/rbb/doku/o-r/Pinselstrich
DTSTAMP:20140408T063307
DESCRIPTION:Der Film begibt sich auf Spurensuche und zeigt, wie das Neue und Alte nebeneinander existieren. Galerien, Strip Clubs, Bars und skurrile Geschäfte - interessante und schillernde Orte, die das multikulturelle Bild der Potsdamer Straße prägen.\n\n\n
SUMMARY:Pinsel-Strich - Die Potsdamer Straße zwischen Kunst und Rotlicht
END:VEVENT
END:VCALENDAR
