BEGIN:VCALENDAR
X-WR-TIMEZONE:Europe/Berlin
X-WR-CALNAME:rbb-Kalender
VERSION:2.0
METHOD:PUBLISH
CALSCALE:GREGORIAN
PRODID:rbb-CMS DAY
BEGIN:VEVENT
CLASS:PUBLIC
URL:http://www.rbb-online.de/content/rbb/rbb/doku/o-r/ostpreussens-zauberwald.html
DTEND:20131130T140000
DTSTART:20131130T140000
UID:/content/rbb/rbb/doku/o-r/ostpreussens-zauberwald
DTSTAMP:20140408T004733
DESCRIPTION:Die Rominter Heide, im äußersten Osten Ostpreußens gelegen, ist ein naturbelassener Wald mit uralten Eichen, Fichten und Kiefern, mit einsamen Waldseen, Brüchen, Schonungen und Mooren. Der Massentourismus hat hier noch nicht Einzug gehalten.\n
SUMMARY:Ostpreußens Zauberwald
END:VEVENT
END:VCALENDAR
