BEGIN:VCALENDAR
X-WR-TIMEZONE:Europe/Berlin
X-WR-CALNAME:rbb-Kalender
VERSION:2.0
METHOD:PUBLISH
CALSCALE:GREGORIAN
PRODID:rbb-CMS DAY
BEGIN:VEVENT
CLASS:PUBLIC
URL:http://www.rbb-online.de/content/rbb/rbb/doku/o-r/polo__ponys_und_patrones.html
DTEND:20130515T160500
DTSTART:20130515T160500
UID:/content/rbb/rbb/doku/o-r/polo__ponys_und_patrones
DTSTAMP:20140407T130711
DESCRIPTION:Jo Goll und Norbert Siegmund schauen hinter die Kulissen des Preußischen Polo und Country Clubs Phöben und erzählen eine Berlin-Brandenburger Erfolgsgeschichte.
SUMMARY:Polo, Ponys und Patrónes
END:VEVENT
END:VCALENDAR
