BEGIN:VCALENDAR
X-WR-TIMEZONE:Europe/Berlin
X-WR-CALNAME:rbb-Kalender
VERSION:2.0
METHOD:PUBLISH
CALSCALE:GREGORIAN
PRODID:rbb-CMS DAY
BEGIN:VEVENT
CLASS:PUBLIC
URL:http://www.rbb-online.de/content/rbb/rbb/doku/s-t/tatort-berlin-ernst-gennat.html
DTEND:20131021T221500
DTSTART:20131021T221500
UID:/content/rbb/rbb/doku/s-t/tatort-berlin-ernst-gennat
DTSTAMP:20140404T222909
DESCRIPTION:An Originalschauplätzen in Berlin und Düsseldorf erzählen Gabi Schlag und Benno Wenz die spannende Geschichte Ernst Gennats, des kriminalistischen Erneuerers und ersten Profilers der Welt.\n
SUMMARY:Tatort Berlin: Ernst Gennat - Der Mordinspektor vom Alex
END:VEVENT
END:VCALENDAR
