BEGIN:VCALENDAR
X-WR-TIMEZONE:Europe/Berlin
X-WR-CALNAME:rbb-Kalender
VERSION:2.0
METHOD:PUBLISH
CALSCALE:GREGORIAN
PRODID:rbb-CMS DAY
BEGIN:VEVENT
CLASS:PUBLIC
URL:http://www.rbb-online.de/content/rbb/rbb/doku/s-t/tierklinik/tierklinik-launige-bulldogen-stille-stubentiger.html
DTEND:20140112T190000
DTSTART:20140112T190000
UID:/content/rbb/rbb/doku/s-t/tierklinik/tierklinik-launige-bulldogen-stille-stubentiger
DTSTAMP:20140406T175446
DESCRIPTION:Kater Muffy kann auf seiner Katzentoilette keinen Urin mehr lassen. Auch seine Hinterbeine sind offenbar gefühllos. Was ist der Grund für diese Lähmung?\n
SUMMARY:Von launigen Bulldoggen und stillen Stubentigern
END:VEVENT
END:VCALENDAR
