BEGIN:VCALENDAR
X-WR-TIMEZONE:Europe/Berlin
X-WR-CALNAME:rbb-Kalender
VERSION:2.0
METHOD:PUBLISH
CALSCALE:GREGORIAN
PRODID:rbb-CMS DAY
BEGIN:VEVENT
CLASS:PUBLIC
URL:http://www.rbb-online.de/content/rbb/rbb/doku/s-t/tierklinik/von_lahmen_jagdhunden.html
DTEND:20130714T190000
DTSTART:20130714T190000
UID:/content/rbb/rbb/doku/s-t/tierklinik/von_lahmen_jagdhunden
DTSTAMP:20140406T175433
DESCRIPTION:Der junge Jagdhund Thysen hat ein mysteriöses Knochenleiden und lahmt. Klinikchef Prof. Leo Brunnberg und sein internationales Team versuchen, der Krankheit mit High Tech Diagnostik auf den Grund zu gehen.
SUMMARY:Von lahmen Jägern und verstopften Katern
END:VEVENT
END:VCALENDAR
