BEGIN:VCALENDAR
X-WR-TIMEZONE:Europe/Berlin
X-WR-CALNAME:rbb-Kalender
VERSION:2.0
METHOD:PUBLISH
CALSCALE:GREGORIAN
PRODID:rbb-CMS DAY
BEGIN:VEVENT
CLASS:PUBLIC
URL:http://www.rbb-online.de/content/rbb/rbb/doku/s-t/tierklinik/von_matten_frettchen.html
DTEND:20130818T190000
DTSTART:20130818T190000
UID:/content/rbb/rbb/doku/s-t/tierklinik/von_matten_frettchen
DTSTAMP:20140408T004121
DESCRIPTION:Eine riesige Wolfshündin ist in der Universitätstierklinik Berlin-Düppel eingetroffen. Die fünfjährige Motte hat sich ein Bein gebrochen.\n
SUMMARY:Von matten Frettchen und molligen Papageien
END:VEVENT
END:VCALENDAR
