BEGIN:VCALENDAR
X-WR-TIMEZONE:Europe/Berlin
X-WR-CALNAME:rbb-Kalender
VERSION:2.0
METHOD:PUBLISH
CALSCALE:GREGORIAN
PRODID:rbb-CMS DAY
BEGIN:VEVENT
CLASS:PUBLIC
URL:http://www.rbb-online.de/content/rbb/rbb/doku/s-t/tierklinik/von_wilden_streunern.html
DTEND:20130721T190000
DTSTART:20130721T190000
UID:/content/rbb/rbb/doku/s-t/tierklinik/von_wilden_streunern
DTSTAMP:20140406T175543
DESCRIPTION:In die Notaufnahme der Kleintierklinik werden zwei Meerschweinchen gebracht. Eines davon – Julchen – zeigt akute Atemnot, das andere ist zur Begleitung dabei.\n
SUMMARY:Von wilden Streunern und gefiederten Zwillingen
END:VEVENT
END:VCALENDAR
