BEGIN:VCALENDAR
X-WR-TIMEZONE:Europe/Berlin
X-WR-CALNAME:rbb-Kalender
VERSION:2.0
METHOD:PUBLISH
CALSCALE:GREGORIAN
PRODID:rbb-CMS DAY
BEGIN:VEVENT
CLASS:PUBLIC
URL:http://www.rbb-online.de/content/rbb/rbb/doku/u-w/ueber-leben-mit-buechern.html
DTEND:20140318T224500
DTSTART:20140318T224500
UID:/content/rbb/rbb/doku/u-w/ueber-leben-mit-buechern
DTSTAMP:20140404T221142
DESCRIPTION:Vor 50 Jahren, 1964, gründete Klaus Wagenbach seinen Verlag in West-Berlin. Wagenbach ist ein Verleger mit Herz - sein Herz, das bekennt er freimütig, schlägt links.\n
SUMMARY:Über Leben mit Büchern
END:VEVENT
END:VCALENDAR
