BEGIN:VCALENDAR
X-WR-TIMEZONE:Europe/Berlin
X-WR-CALNAME:rbb-Kalender
VERSION:2.0
METHOD:PUBLISH
CALSCALE:GREGORIAN
PRODID:rbb-CMS DAY
BEGIN:VEVENT
CLASS:PUBLIC
URL:http://www.rbb-online.de/content/rbb/rbb/doku/u-w/von-lust-laster.html
DTEND:20140326T000000
DTSTART:20140326T000000
UID:/content/rbb/rbb/doku/u-w/von-lust-laster
DTSTAMP:20140404T222321
DESCRIPTION:Die Geschichte sexueller Tabus, von Doppelmoral und dem schwierigen Umgang mit der Prostitution in Deutschland in den vergangenen 100 Jahren.\n
SUMMARY:Von Lust & Laster
END:VEVENT
END:VCALENDAR
