BEGIN:VCALENDAR
X-WR-TIMEZONE:Europe/Berlin
X-WR-CALNAME:rbb-Kalender
VERSION:2.0
METHOD:PUBLISH
CALSCALE:GREGORIAN
PRODID:rbb-CMS DAY
BEGIN:VEVENT
CLASS:PUBLIC
URL:http://www.rbb-online.de/content/rbb/rbb/doku/u-w/von_kommenden_dingen.html
DTEND:20130409T234500
DTSTART:20130409T234500
UID:/content/rbb/rbb/doku/u-w/von_kommenden_dingen
DTSTAMP:20140406T175703
DESCRIPTION:Der Dokumentarfilm nimmt den Zuschauer mit auf eine dramatische Reise in die zerrissene deutsch-jüdische Seelenlandschaft von Walther Rathenau, der Schloß Freienwalde im Jahre 1909 erwarb.
SUMMARY:Von kommenden Dingen - Walther Rathenau in Freienwalde
END:VEVENT
END:VCALENDAR
