BEGIN:VCALENDAR
X-WR-TIMEZONE:Europe/Berlin
X-WR-CALNAME:rbb-Kalender
VERSION:2.0
METHOD:PUBLISH
CALSCALE:GREGORIAN
PRODID:rbb-CMS DAY
BEGIN:VEVENT
CLASS:PUBLIC
URL:http://www.rbb-online.de/content/rbb/rbb/doku/u-w/von_odessa_nach_odessa/von-odessa-nach-odessa.html
DTEND:20131217T001500
DTSTART:20131217T224500
UID:/content/rbb/rbb/doku/u-w/von_odessa_nach_odessa/von-odessa-nach-odessa
DTSTAMP:20140408T004517
DESCRIPTION:Eine Reise zu Menschen am südöstlichen Rand Europas mit ihrer reichen Geschichte und ihrer oft überraschenden Gegenwart, eine Begegnung zwischen "christlicher" und "muslimischer" Welt.\n
SUMMARY:Von Odessa nach Odessa
END:VEVENT
END:VCALENDAR
