BEGIN:VCALENDAR
X-WR-TIMEZONE:Europe/Berlin
X-WR-CALNAME:rbb-Kalender
VERSION:2.0
METHOD:PUBLISH
CALSCALE:GREGORIAN
PRODID:rbb-CMS DAY
BEGIN:VEVENT
CLASS:PUBLIC
URL:http://www.rbb-online.de/content/rbb/rbb/doku/u-w/welcome_mr__president.html
DTEND:20130618T224500
DTSTART:20130618T224500
UID:/content/rbb/rbb/doku/u-w/welcome_mr__president
DTSTAMP:20140407T130442
DESCRIPTION:Der Besuch eines Präsidenten der USA in Berlin ist immer eine große Sache. Die Doku erzählt von vorherigen Besuchen US-amerikanischer  Präsidenten.
SUMMARY:Welcome Mr. President
END:VEVENT
END:VCALENDAR
