BEGIN:VCALENDAR
X-WR-TIMEZONE:Europe/Berlin
X-WR-CALNAME:rbb-Kalender
VERSION:2.0
METHOD:PUBLISH
CALSCALE:GREGORIAN
PRODID:rbb-CMS DAY
BEGIN:VEVENT
CLASS:PUBLIC
URL:http://www.rbb-online.de/content/rbb/rbb/doku/u-w/wildes-berlin2.html
DTEND:20140105T192500
DTSTART:20140105T184000
UID:/content/rbb/rbb/doku/u-w/wildes-berlin2
DTSTAMP:20140407T130935
DESCRIPTION:Die Wildnis gehört als fester Bestandteil zur deutschen Hauptstadt, sie ist eine faszinierende Parallelwelt voller kleiner und großer Naturwunder.\n
SUMMARY:Wildes Berlin (2/2)
END:VEVENT
END:VCALENDAR
