BEGIN:VCALENDAR
X-WR-TIMEZONE:Europe/Berlin
X-WR-CALNAME:rbb-Kalender
VERSION:2.0
METHOD:PUBLISH
CALSCALE:GREGORIAN
PRODID:rbb-CMS DAY
BEGIN:VEVENT
CLASS:PUBLIC
URL:http://www.rbb-online.de/content/rbb/rbb/doku/u-w/wilfried_glatzeder.html
DTEND:20140318T210000
DTSTART:20140318T210000
UID:/content/rbb/rbb/doku/u-w/wilfried_glatzeder
DTSTAMP:20140404T221657
DESCRIPTION:Seinen Namen kennt spätestens 1973 jeder in der DDR. Glatzeder ist 28 Jahre alt und hat mit dem Paul aus dem Film "Die Legende von Paul und Paula" die Rolle seines Lebens gespielt.\n
SUMMARY:Winfried Glatzeder
END:VEVENT
END:VCALENDAR
