BEGIN:VCALENDAR
X-WR-TIMEZONE:Europe/Berlin
X-WR-CALNAME:rbb-Kalender
VERSION:2.0
METHOD:PUBLISH
CALSCALE:GREGORIAN
PRODID:rbb-CMS DAY
BEGIN:VEVENT
CLASS:PUBLIC
URL:http://www.rbb-online.de/content/rbb/rbb/doku/u-w/willy_brandt.html
DTEND:20131217T210000
DTSTART:20131217T210000
UID:/content/rbb/rbb/doku/u-w/willy_brandt
DTSTAMP:20140408T004440
DESCRIPTION:Zwei Jahrzehnte lebt und arbeitet Willy Brandt in und für Berlin, fast die Hälfte der Zeit als Regierender Bürgermeister. Die Dokumentation beleuchtet diese Zeit und erzählt von Brandts Beziehung zur Stadt.\n
SUMMARY:Willy Brandt - die Berliner Jahre
END:VEVENT
END:VCALENDAR
