BEGIN:VCALENDAR
X-WR-TIMEZONE:Europe/Berlin
X-WR-CALNAME:rbb-Kalender
VERSION:2.0
METHOD:PUBLISH
CALSCALE:GREGORIAN
PRODID:rbb-CMS DAY
BEGIN:VEVENT
CLASS:PUBLIC
URL:http://www.rbb-online.de/content/rbb/rbb/doku/u-w/wohin-mit-den-berlinern-.html
DTEND:20130930T221500
DTSTART:20130930T221500
UID:/content/rbb/rbb/doku/u-w/wohin-mit-den-berlinern-
DTSTAMP:20140404T223255
DESCRIPTION:Im Film erklären Stadtplaner, Soziologen und Investoren, wo sie die aktuellen und künftigen "Baustellen" der Stadt sehen. Und: Sie stellen dar, welche Lösungen es geben könnte. Bei der Wohnraumbeschaffung und bei der Organisation eines gerechten Miteinanders von Alt- und Neuberlinern.\n
SUMMARY:Wohin mit den Berlinern?
END:VEVENT
END:VCALENDAR
