BEGIN:VCALENDAR
X-WR-TIMEZONE:Europe/Berlin
X-WR-CALNAME:rbb-Kalender
VERSION:2.0
METHOD:PUBLISH
CALSCALE:GREGORIAN
PRODID:rbb-CMS DAY
BEGIN:VEVENT
CLASS:PUBLIC
URL:http://www.rbb-online.de/content/rbb/rbb/extra/berlinale-2014/berlinale-rbbfernsehen/Berlinale-Studio-07-02-2014/george-clooney-kommt.html
DTEND:20140207T221500
DTSTART:20140207T221500
UID:/content/rbb/rbb/extra/berlinale-2014/berlinale-rbbfernsehen/Berlinale-Studio-07-02-2014/george-clooney-kommt
DTSTAMP:20140405T184936
DESCRIPTION:Berlinale Stammgast George Clooney zeigt morgen seinen aktuellen Film "The Monuments Men".\n
SUMMARY:George Clooney kommt
END:VEVENT
END:VCALENDAR
