BEGIN:VCALENDAR
X-WR-TIMEZONE:Europe/Berlin
X-WR-CALNAME:rbb-Kalender
VERSION:2.0
METHOD:PUBLISH
CALSCALE:GREGORIAN
PRODID:rbb-CMS DAY
BEGIN:VEVENT
CLASS:PUBLIC
URL:http://www.rbb-online.de/content/rbb/rbb/extra/berlinale-2014/berlinale-rbbfernsehen/Berlinale-Studio-07-02-2014/wettbewerbsfilm-kreuzweg.html
DTEND:20140207T221500
DTSTART:20140207T221500
UID:/content/rbb/rbb/extra/berlinale-2014/berlinale-rbbfernsehen/Berlinale-Studio-07-02-2014/wettbewerbsfilm-kreuzweg
DTSTAMP:20140405T184651
DESCRIPTION:Der deutsche Wettbewerbsbeitrag "Kreuzweg" erzählt über die Anhänger einer christlichen Sekte.\n\n\n
SUMMARY:Wettbewerbsbeitrag "Kreuzweg"
END:VEVENT
END:VCALENDAR
