BEGIN:VCALENDAR
X-WR-TIMEZONE:Europe/Berlin
X-WR-CALNAME:rbb-Kalender
VERSION:2.0
METHOD:PUBLISH
CALSCALE:GREGORIAN
PRODID:rbb-CMS DAY
BEGIN:VEVENT
CLASS:PUBLIC
URL:http://www.rbb-online.de/content/rbb/rbb/extra/berlinale-2014/berlinale-rbbfernsehen/Berlinale-Studio-10-02-2014/die-galapagos-affaere--tod-im-paradies.html
DTEND:20140210T224500
DTSTART:20140210T221500
UID:/content/rbb/rbb/extra/berlinale-2014/berlinale-rbbfernsehen/Berlinale-Studio-10-02-2014/die-galapagos-affaere--tod-im-paradies
DTSTAMP:20140405T184827
DESCRIPTION:Ein Berliner Arzt und seine Geliebte machen sich in den Dreißiger Jahren auf, um auf die bis dahin unerforschten Galapagosinseln auszusiedeln.\n\n\n
SUMMARY:Die Galapagos Affäre – Tod im Paradies
END:VEVENT
END:VCALENDAR
