BEGIN:VCALENDAR
X-WR-TIMEZONE:Europe/Berlin
X-WR-CALNAME:rbb-Kalender
VERSION:2.0
METHOD:PUBLISH
CALSCALE:GREGORIAN
PRODID:rbb-CMS DAY
BEGIN:VEVENT
CLASS:PUBLIC
URL:http://www.rbb-online.de/content/rbb/rbb/extra/berlinale-2014/berlinale-rbbfernsehen/Berlinale-Studio-10-02-2014/die-gesichter-des-neuen-europas--die-shooting-stars-der-berlinal.html
DTEND:20140210T224500
DTSTART:20140210T221500
UID:/content/rbb/rbb/extra/berlinale-2014/berlinale-rbbfernsehen/Berlinale-Studio-10-02-2014/die-gesichter-des-neuen-europas--die-shooting-stars-der-berlinal
DTSTAMP:20140405T185042
DESCRIPTION:
SUMMARY:Die Gesichter des neuen Europas – Die Shooting Stars der Berlinale
END:VEVENT
END:VCALENDAR
