BEGIN:VCALENDAR
X-WR-TIMEZONE:Europe/Berlin
X-WR-CALNAME:rbb-Kalender
VERSION:2.0
METHOD:PUBLISH
CALSCALE:GREGORIAN
PRODID:rbb-CMS DAY
BEGIN:VEVENT
CLASS:PUBLIC
URL:http://www.rbb-online.de/content/rbb/rbb/extra/berlinale-2014/berlinale-rbbfernsehen/Berlinale-Studio-11-02-2014/die-diva-ist-wieder-da--catherine-deneuve-in--dans-la-cour-.html
DTEND:20140211T221500
DTSTART:20140211T221500
UID:/content/rbb/rbb/extra/berlinale-2014/berlinale-rbbfernsehen/Berlinale-Studio-11-02-2014/die-diva-ist-wieder-da--catherine-deneuve-in--dans-la-cour-
DTSTAMP:20140405T184902
DESCRIPTION:Sie ist die geheimnisvolle Schönheit des französischen Films. Sie hat mit sämtlichen Stars des Weltkinos gespielt.\n\n\n
SUMMARY:Die Diva ist wieder da – Catherine Deneuve in "Dans la Cour"
END:VEVENT
END:VCALENDAR
