BEGIN:VCALENDAR
X-WR-TIMEZONE:Europe/Berlin
X-WR-CALNAME:rbb-Kalender
VERSION:2.0
METHOD:PUBLISH
CALSCALE:GREGORIAN
PRODID:rbb-CMS DAY
BEGIN:VEVENT
CLASS:PUBLIC
URL:http://www.rbb-online.de/content/rbb/rbb/extra/berlinale-2014/berlinale-rbbfernsehen/Berlinale-Studio-11-02-2014/zwischen-welten----der-krieg-kommt-ins-kino.html
DTEND:20140211T221500
DTSTART:20140211T221500
UID:/content/rbb/rbb/extra/berlinale-2014/berlinale-rbbfernsehen/Berlinale-Studio-11-02-2014/zwischen-welten----der-krieg-kommt-ins-kino
DTSTAMP:20140405T185228
DESCRIPTION:Am fünften Tag der Berlinale startet der neue Film der Regisseurin Feo Aladag in den Wettbewerb.\n\n\n
SUMMARY:"Zwischen Welten"  - Der Krieg kommt ins Kino
END:VEVENT
END:VCALENDAR
