BEGIN:VCALENDAR
X-WR-TIMEZONE:Europe/Berlin
X-WR-CALNAME:rbb-Kalender
VERSION:2.0
METHOD:PUBLISH
CALSCALE:GREGORIAN
PRODID:rbb-CMS DAY
BEGIN:VEVENT
CLASS:PUBLIC
URL:http://www.rbb-online.de/content/rbb/rbb/extra/berlinale-2014/berlinale-rbbfernsehen/Berlinale-Studio-14-02-2014/berlinale-studio-vom-14-02-2014.html
DTEND:20140214T221500
DTSTART:20140214T221500
UID:/content/rbb/rbb/extra/berlinale-2014/berlinale-rbbfernsehen/Berlinale-Studio-14-02-2014/berlinale-studio-vom-14-02-2014
DTSTAMP:20140405T185251
DESCRIPTION:Berlinale Bilanz - Top oder Flop +++ Wo ist Heimat? - Der Film "Anderswo" sucht eine Antwort +++ Die Wiederauferstehung des Alfred D. +++ Die lieben Kollegen +++ Die Berlinale Stars\n
SUMMARY:Berlinale Studio vom 14.02.2014
END:VEVENT
END:VCALENDAR
