BEGIN:VCALENDAR
X-WR-TIMEZONE:Europe/Berlin
X-WR-CALNAME:rbb-Kalender
VERSION:2.0
METHOD:PUBLISH
CALSCALE:GREGORIAN
PRODID:rbb-CMS DAY
BEGIN:VEVENT
CLASS:PUBLIC
URL:http://www.rbb-online.de/content/rbb/rbb/extra/berlinale-2014/wettbewerbsfilme/filmkritik-bai-ri-yan-huo-schwarze-kohle-duennes-eis-wettbewerb-berlinale-2014.html
DTEND:20140212T234600
DTSTART:20140212T234600
UID:/content/rbb/rbb/extra/berlinale-2014/wettbewerbsfilme/filmkritik-bai-ri-yan-huo-schwarze-kohle-duennes-eis-wettbewerb-berlinale-2014
DTSTAMP:20140405T073712
DESCRIPTION:Der zweite der drei chinesischen Wettbewerbsbeiträge ist in schmutzig-kaltes Licht getaucht. "Bai Ri Yan Huo" erzählt die Geschichte eines ehemaligen Polizisten, der auf neue Fährten in einem alten Mordfall stößt. Sie führen in eine Wäscherei - und zu einer Frau, die ihre Geheimnisse erst nach und nach verrät. Ein durchaus clever aufgebauter Film mit einem unerwartet poetischen Ende. Von Fabian Wallmeier\n
SUMMARY:Die Femme Fatale aus der Wäscherei
END:VEVENT
END:VCALENDAR
