BEGIN:VCALENDAR
X-WR-TIMEZONE:Europe/Berlin
X-WR-CALNAME:rbb-Kalender
VERSION:2.0
METHOD:PUBLISH
CALSCALE:GREGORIAN
PRODID:rbb-CMS DAY
BEGIN:VEVENT
CLASS:PUBLIC
URL:http://www.rbb-online.de/content/rbb/rbb/fernost/english/episodes/episode8.html
DTEND:20140410T210000
DTSTART:20140410T210000
UID:/content/rbb/rbb/fernost/english/episodes/episode8
DTSTAMP:20140405T214300
DESCRIPTION:A journey through China - from the south to the capital, from Guangzhou to Beijing. Our team crosses a historic border that used to divide the Middle Kingdom until the 20th century: the Yangtze river. From times immemorial, there was not a single bridge to connect the north and the south of China.\n
SUMMARY:Through the east of China to Beijing (8/10)
END:VEVENT
END:VCALENDAR
