BEGIN:VCALENDAR
X-WR-TIMEZONE:Europe/Berlin
X-WR-CALNAME:rbb-Kalender
VERSION:2.0
METHOD:PUBLISH
CALSCALE:GREGORIAN
PRODID:rbb-CMS DAY
BEGIN:VEVENT
CLASS:PUBLIC
URL:http://www.rbb-online.de/content/rbb/rbb/fernost/sendungen/Folge5.html
DTEND:20140409T201500
DTSTART:20140409T201500
UID:/content/rbb/rbb/fernost/sendungen/Folge5
DTSTAMP:20140404T221446
DESCRIPTION:Auf und ab durchs Dschungelland: Durch das geheimnisvolle Myanmar bis ins Touristenparadies Thailand. Vom Goldland, von goldene Pagoden, goldenen Buddhas, von Blattgold,  ohrenbetäubendem Lärm und weißen Elefanten berichtet das fernOST-Team auf der Straße von Myanmar nach Thailand.\n
SUMMARY:Von Myanmar nach Bangkok (5/10)
END:VEVENT
END:VCALENDAR
