BEGIN:VCALENDAR
X-WR-TIMEZONE:Europe/Berlin
X-WR-CALNAME:rbb-Kalender
VERSION:2.0
METHOD:PUBLISH
CALSCALE:GREGORIAN
PRODID:rbb-CMS DAY
BEGIN:VEVENT
CLASS:PUBLIC
URL:http://www.rbb-online.de/content/rbb/rbb/fernost/sendungen/Folge6.html
DTEND:20140409T210000
DTSTART:20140409T210000
UID:/content/rbb/rbb/fernost/sendungen/Folge6
DTSTAMP:20140404T221438
DESCRIPTION:Von der thailändischen Hauptstadt durch die faszinierenden Schwemmlandebenen Kambodschas und Vietnams führt der Weg des fernOST-Teams weiter durch Südostasien - zwischen düsterer Vergangenheit und Zukunftsversprechen.\n
SUMMARY:Von Bangkok bis nach Südvietnam (6/10)
END:VEVENT
END:VCALENDAR
