BEGIN:VCALENDAR
X-WR-TIMEZONE:Europe/Berlin
X-WR-CALNAME:rbb-Kalender
VERSION:2.0
METHOD:PUBLISH
CALSCALE:GREGORIAN
PRODID:rbb-CMS DAY
BEGIN:VEVENT
CLASS:PUBLIC
URL:http://www.rbb-online.de/content/rbb/rbb/fernost/sendungen/Folge8.html
DTEND:20140410T210000
DTSTART:20140410T210000
UID:/content/rbb/rbb/fernost/sendungen/Folge8
DTSTAMP:20140404T221540
DESCRIPTION:Eine Reise durch China - vom Süden in die Hauptstadt, von Guangzhou nach Peking. Dabei überquert unser Team eine historische Grenze, die das alte Reich der Mitte bis ins 20.Jahrhundert rigoros teilte: den Jangtse-Fluss. Seit undenklichen Zeiten verband keine einzige Brücke Nord- und Süd-China.\n
SUMMARY:Durch den Osten Chinas bis nach Peking (8/10)
END:VEVENT
END:VCALENDAR
