BEGIN:VCALENDAR
X-WR-TIMEZONE:Europe/Berlin
X-WR-CALNAME:rbb-Kalender
VERSION:2.0
METHOD:PUBLISH
CALSCALE:GREGORIAN
PRODID:rbb-CMS DAY
BEGIN:VEVENT
CLASS:PUBLIC
URL:http://www.rbb-online.de/content/rbb/rbb/fernsehen/beitrag/der-kleine-und-der-grosse-klaus.html
DTEND:20131207T113000
DTSTART:20131207T113000
UID:/content/rbb/rbb/fernsehen/beitrag/der-kleine-und-der-grosse-klaus
DTSTAMP:20140408T074734
DESCRIPTION:Der kleine Klaus leiht sich beim großen Klaus ein Pferdegespann aus und brüstet sich anschließend, dass dies sein Eigentum sei.\n\n\n
SUMMARY:Der kleine und der große Klaus
END:VEVENT
END:VCALENDAR
