BEGIN:VCALENDAR
X-WR-TIMEZONE:Europe/Berlin
X-WR-CALNAME:rbb-Kalender
VERSION:2.0
METHOD:PUBLISH
CALSCALE:GREGORIAN
PRODID:rbb-CMS DAY
BEGIN:VEVENT
CLASS:PUBLIC
URL:http://www.rbb-online.de/content/rbb/rbb/fernsehen/beitrag/grosse-kinder--kleine-kinder--1-.html
DTEND:20140405T113000
DTSTART:20140405T113000
UID:/content/rbb/rbb/fernsehen/beitrag/grosse-kinder--kleine-kinder--1-
DTSTAMP:20140405T090610
DESCRIPTION:Zoo Berlin und Tierpark Berlin freuen sich über eine wahre Babyschwemme. Der tierische Nachwuchs und die dazugehörigen Eltern oder auch Pflegeeltern stehen im Mittelpunkt dieses Spezials von "Panda, Gorilla & Co.".\n
SUMMARY:Panda, Gorilla & Co. Spezial
END:VEVENT
END:VCALENDAR
